BEGIN:VCALENDAR
VERSION:2.0
PRODID:-//Orchid society of Minnesota - ECPv6.15.20//NONSGML v1.0//EN
CALSCALE:GREGORIAN
METHOD:PUBLISH
X-ORIGINAL-URL:https://orchidsocietyofminnesota.org
X-WR-CALDESC:Events for Orchid society of Minnesota
REFRESH-INTERVAL;VALUE=DURATION:PT1H
X-Robots-Tag:noindex
X-PUBLISHED-TTL:PT1H
BEGIN:VTIMEZONE
TZID:UTC
BEGIN:STANDARD
TZOFFSETFROM:+0000
TZOFFSETTO:+0000
TZNAME:UTC
DTSTART:20210101T000000
END:STANDARD
END:VTIMEZONE
BEGIN:VEVENT
DTSTART;TZID=UTC:20260124T100000
DTEND;TZID=UTC:20260125T160000
DTSTAMP:20260421T131140
CREATED:20240104T171757Z
LAST-MODIFIED:20260112T002248Z
UID:1315-1769248800-1769356800@orchidsocietyofminnesota.org
SUMMARY:Winter Carnival Orchid Show
DESCRIPTION:Winter Carnival Orchid Show\n\nStep into a tropical paradise during the Saint Paul Winter Carnival! The Winter Carnival Orchid Show returns to the Marjorie McNeely Conservatory on January 24 from 10 AM to 5 PM and January 25 from 10 AM to 4 PM\, offering a vibrant\, midwinter escape that’s become a must-see for orchid lovers across the Midwest.\n\nNow celebrating its 51st year\, the show transforms the Conservatory into a breathtaking oasis filled with hundreds of exquisite orchids—showcased by the Conservatory\, the Orchid Society of Minnesota\, and renowned local and national growers. Wander through stunning displays\, where the vivid colors and delicate beauty of orchids transport you far from the icy grip of Minnesota winter.\n\nEnhance your experience by meeting orchid experts\, exploring the world of orchid culture\, and browsing an impressive selection of plants and orchid-themed treasures. Top-tier vendors include Arnold J. Klehm Growers Inc.\, Deerwood Orchids\, New World Orchids\, Orchids Limited\, Ten Shin Orchids and the talented members of the Orchid Society of Minnesota\, offering exceptional plants and items to take home and brighten your space.\n\nDon’t miss this extraordinary event—your chance to savor the beauty of orchids\, connect with fellow enthusiasts\, and escape to the tropics without leaving Saint Paul.\n\n\nThe members of the OSM are excited to welcome you to the show! If you’d like to purchase tickets\, you may do so through the Como Zoo & Conservatory website\, as they are responsible for all ticket sales.\n\n\nJoin us for a weekend of warmth\, wonder\, and world-class orchids!\n\n\n\n\nDownloads for Exhibitors and Vendors \nExhibit & Plant Registration Entry & Instructions Form \nMAOC Classification List\nIntergeneric Makeup List Alphabetized by Abbreviation\nIntergeneric Makeup List Alphabetized by Name\nDendrobium Cheat Sheet\nPaph Cheat Sheet\nDendro/Paph Cheat Sheet
URL:https://orchidsocietyofminnesota.org/event/https-orchidsocietyofminnesota-org-winter-carnival-orchid-show/
LOCATION:Marjorie McNeely Conservatory\, 1225 Estabrook Dr\, St. Paul\, MN\, 55103\, United States
CATEGORIES:Shows
ATTACH;FMTTYPE=image/png:https://orchidsocietyofminnesota.org/wp-content/uploads/2025/12/winter-carnival-ads-2026-1920-x-1080-px-1.png
ORGANIZER;CN="Orchid Society of Minnesota":MAILTO:michael1027us@yahoo.com
END:VEVENT
BEGIN:VEVENT
DTSTART;TZID=UTC:20250829T090000
DTEND;TZID=UTC:20250830T210000
DTSTAMP:20260421T131140
CREATED:20250807T233420Z
LAST-MODIFIED:20250807T235509Z
UID:1530-1756458000-1756587600@orchidsocietyofminnesota.org
SUMMARY:Minnesota State Fair Orchid Show
DESCRIPTION:  \nCome join us at the Minnesota State Fair for an orchid  \nPICNIC IN PARADISE! \nFriday\, August 29\, 2025 – Saturday\, August 30\, 2025 \n9am – 9pm Both Days \nStop by or annual Minnesota State Fair Orchid Show! \nOur theme for this year’s show is “An Orchid Picnic in Paradise” Imagine all of our beautiful orchids\, deliciously displayed in a picnic setting! \nWe are located in the Horticulture Building on the fairgrounds. \nYou never know\, you might even see an orchid in a picnic basket!
URL:https://orchidsocietyofminnesota.org/event/1530/
LOCATION:Minnesota State Fair\, Horticulture Building
CATEGORIES:Shows
ATTACH;FMTTYPE=image/png:https://orchidsocietyofminnesota.org/wp-content/uploads/2025/08/Screenshot-2025-08-03-at-10.17.29-PM.png
END:VEVENT
BEGIN:VEVENT
DTSTART;VALUE=DATE:20230128
DTEND;VALUE=DATE:20230130
DTSTAMP:20260421T131140
CREATED:20221023T163437Z
LAST-MODIFIED:20221023T163437Z
UID:1052-1674864000-1675036799@orchidsocietyofminnesota.org
SUMMARY:Winter Carnival Orchid Show
DESCRIPTION:
URL:https://orchidsocietyofminnesota.org/event/winter-carnival-orchid-show-2/
CATEGORIES:Shows
END:VEVENT
BEGIN:VEVENT
DTSTART;VALUE=DATE:20220129
DTEND;VALUE=DATE:20220131
DTSTAMP:20260421T131140
CREATED:20220119T021647Z
LAST-MODIFIED:20220119T021917Z
UID:1008-1643414400-1643587199@orchidsocietyofminnesota.org
SUMMARY:Winter Carnival Orchid Show
DESCRIPTION:Purchase tickets to the show at https://comozooconservatory.org/winter-carnival-orchid-show/ \n** Due to COVID\, tickets must be purchased to attend the orchid show **
URL:https://orchidsocietyofminnesota.org/event/winter-carnival-orchid-show/
LOCATION:Marjorie McNeely Conservatory\, 1225 Estabrook Dr\, St. Paul\, MN\, 55103\, United States
CATEGORIES:Shows
END:VEVENT
END:VCALENDAR